BEGIN:VCALENDAR
VERSION:2.0
PRODID:-//Máme vzdělávání - ECPv6.15.20//NONSGML v1.0//EN
CALSCALE:GREGORIAN
METHOD:PUBLISH
X-ORIGINAL-URL:https://mamevzdelavani.cz
X-WR-CALDESC:Akce na Máme vzdělávání
REFRESH-INTERVAL;VALUE=DURATION:PT1H
X-Robots-Tag:noindex
X-PUBLISHED-TTL:PT1H
BEGIN:VTIMEZONE
TZID:Europe/Prague
BEGIN:DAYLIGHT
TZOFFSETFROM:+0100
TZOFFSETTO:+0200
TZNAME:CEST
DTSTART:20250330T010000
END:DAYLIGHT
BEGIN:STANDARD
TZOFFSETFROM:+0200
TZOFFSETTO:+0100
TZNAME:CET
DTSTART:20251026T010000
END:STANDARD
BEGIN:DAYLIGHT
TZOFFSETFROM:+0100
TZOFFSETTO:+0200
TZNAME:CEST
DTSTART:20260329T010000
END:DAYLIGHT
BEGIN:STANDARD
TZOFFSETFROM:+0200
TZOFFSETTO:+0100
TZNAME:CET
DTSTART:20261025T010000
END:STANDARD
BEGIN:DAYLIGHT
TZOFFSETFROM:+0100
TZOFFSETTO:+0200
TZNAME:CEST
DTSTART:20270328T010000
END:DAYLIGHT
BEGIN:STANDARD
TZOFFSETFROM:+0200
TZOFFSETTO:+0100
TZNAME:CET
DTSTART:20271031T010000
END:STANDARD
END:VTIMEZONE
BEGIN:VEVENT
DTSTART;TZID=Europe/Prague:20260301T190000
DTEND;TZID=Europe/Prague:20260301T200000
DTSTAMP:20260425T122843
CREATED:20260128T140619Z
LAST-MODIFIED:20260225T064015Z
UID:179-1772391600-1772395200@mamevzdelavani.cz
SUMMARY:Online setkání 1.3.2026 - Co mě naučili domškoláci
DESCRIPTION:Online na téma: Co mě naučili domškoláci s Lenkou Formánkovou \nKdy: v neděli   1.3.2026 od 19:00 do 20:00 \nOnline přes platformu zoom \nCena: 490 Kč  \nZveme vás na společné setkání v našem bezpečném online prostoru. Tentokrát se budeme věnovat domácímu vzdělávání. \nPodíváme se na toto téma z různých úhlů pohledů. Lenka se s vámi podělí o svoje bohaté zkušenosti. A samozřejmě bude prostor i pro vaše dotazy a sdílení. \nOnline je určený nejen pro ty\, kteří už touto cestou vzdělávání jdou nebo ji zvažují. \n  \nTěšíme se na vás. \nLenka a Pavlína \n  \nVíce o Lence se můžete dozvědět na www.detivpoho.cz \n 
URL:https://mamevzdelavani.cz/akce/online-setkani-1-3-2026-co-me-naucili-domskolaci/
LOCATION:Online platforma Zoom
ATTACH;FMTTYPE=image/png:https://mamevzdelavani.cz/wp-content/uploads/2026/01/ai-generated-8489717_1280.png
END:VEVENT
BEGIN:VEVENT
DTSTART;TZID=Europe/Prague:20260314T190000
DTEND;TZID=Europe/Prague:20260314T191000
DTSTAMP:20260425T122843
CREATED:20260307T074218Z
LAST-MODIFIED:20260307T082936Z
UID:273-1773514800-1773515400@mamevzdelavani.cz
SUMMARY:Pohádkový mlýneček
DESCRIPTION:Kdy: v sobotu 14.3.2026 od 19:00 do cca 19:10 \nOnline přes YouTube – budeme rádi\, když nám v komentářích zanecháte vzkaz\, jak se pohádka dětem či vám líbila. \nCena: 99 Kč \nVečerní online pohádky pro děti i dospělé. Na setkání zazni jedna pohádka s hudebním doprovodem a prostorem pro sdílení.\nAkce potrvá 5 – 10 minut. \nSetkáním vás provede a těší se na vás autor \nDaniel Mlýnek
URL:https://mamevzdelavani.cz/akce/pohadkovy-mlynecek/
ATTACH;FMTTYPE=image/jpeg:https://mamevzdelavani.cz/wp-content/uploads/2026/02/WhatsApp-Image-2026-02-22-at-16.25.23.jpeg
END:VEVENT
BEGIN:VEVENT
DTSTART;TZID=Europe/Prague:20260328T130000
DTEND;TZID=Europe/Prague:20260328T170000
DTSTAMP:20260425T122843
CREATED:20260213T163414Z
LAST-MODIFIED:20260327T063707Z
UID:199-1774702800-1774717200@mamevzdelavani.cz
SUMMARY:Workshop s kůží na vlastní kůži 28.3.2026
DESCRIPTION:Workshopem vás provede: Pavel Filouš \nWorkshop je tentokrát určen pro dospělé. \nKdy: v sobotu   28.3.2026 od 13:00 do 17:00 \nKde: Bratčice 239\, 664 67 Bratčice (Jižní Morava) \nCena:  2 500 Kč  \nPočet míst: 5 \nCena zahrnuje: vlastní výrobek v hodnotě 500 Kč\, kurzovné \nK dispozici bude také káva\, čaj a malé občerstvení.  \nPřihlašování UZAVŘENO \nPřijďtě si užít pohodové odpoledne\, kde vám ukážu základní sedlářské dovednosti ( šití\, řezání\, máčení a natahování kůže\, barvení atd.) a při té příležitosti si vyrobíte dle svého výběru jednoduché psaníčko\, nebo brašničku (či obal na brýle). \nMoc by se mi líbilo aby všichni odložili svoje každodenní “ masky “ a přišli si užít naprosto otevřené a uvolněné odpoledne do stejně otevřené a uvolněné dílny. Už jen to píšu a je mi dobře :-). \n  \nTěší se na vás Pavel \n \nMalá ukázka mojí práce
URL:https://mamevzdelavani.cz/akce/workshop-s-kuzi-na-vlastni-kuzi-28-3-2026/
LOCATION:Bratčice 239\, Bratčice 239\, Bratčice\, 66467
ATTACH;FMTTYPE=image/jpeg:https://mamevzdelavani.cz/wp-content/uploads/2026/02/arrows-1839724_1280.jpg
END:VEVENT
BEGIN:VEVENT
DTSTART;TZID=Europe/Prague:20260329T193000
DTEND;TZID=Europe/Prague:20260329T203000
DTSTAMP:20260425T122843
CREATED:20260225T063710Z
LAST-MODIFIED:20260316T113729Z
UID:247-1774812600-1774816200@mamevzdelavani.cz
SUMMARY:Online setkání 29.3.2026 - Jsou děti našim středobodem? Nebo jsme to my sami a z toho vše ladně vyplývá?
DESCRIPTION:Online na téma: Jsou děti našim středobodem? Nebo jsme to my sami a z toho vše ladně vyplývá? \nOnline s Lenkou Formánkovou \nKdy: v neděli   29.3.2026 od 19:30 do 20:30 \nOnline přes platformu zoom \nCena: 490 Kč  \n  \n– Následujeme my děti nebo následují oni nás? \n– Kolem koho se točí svět? \n– Jak se liší tvorba\, když vycházíme ze svých potřeb\, a jaká je tvorba\, když vycházíme z našich domnělých představách o potřebách dětí? \n– Je pojem výchova živý\, nebo je to jenom velká nesvoboda a nůše plná načtených rad? Dá se tu vůbec mluvit o výchově? Existuje něco takového? \n– Návod na život a interakce s dětmi máme každý originální a jedinečný a vychází vždy z nás. \n  \nAť už jste si někdy položili některou z následujicích otázek nebo se chcete jen tak společně potkat. Těšíme se na vás. \nLenka a Pavlína \n \nVíce o Lence se můžete dozvědět na www.detivpoho.cz \n  \n \n 
URL:https://mamevzdelavani.cz/akce/online-setkani-29-3-2026-jsou-deti-nasim-stredobodem-nebo-jsme-to-my-sami-a-z-toho-vse-ladne-vyplyva/
ATTACH;FMTTYPE=image/jpeg:https://mamevzdelavani.cz/wp-content/uploads/2026/02/Uvodni-foto-Online-MVZ-29.3.2026.jpg
END:VEVENT
END:VCALENDAR