BEGIN:VCALENDAR
VERSION:2.0
PRODID:-//Máme vzdělávání - ECPv6.15.20//NONSGML v1.0//EN
CALSCALE:GREGORIAN
METHOD:PUBLISH
X-WR-CALNAME:Máme vzdělávání
X-ORIGINAL-URL:https://mamevzdelavani.cz
X-WR-CALDESC:Akce na Máme vzdělávání
REFRESH-INTERVAL;VALUE=DURATION:PT1H
X-Robots-Tag:noindex
X-PUBLISHED-TTL:PT1H
BEGIN:VTIMEZONE
TZID:Europe/Prague
BEGIN:DAYLIGHT
TZOFFSETFROM:+0100
TZOFFSETTO:+0200
TZNAME:CEST
DTSTART:20250330T010000
END:DAYLIGHT
BEGIN:STANDARD
TZOFFSETFROM:+0200
TZOFFSETTO:+0100
TZNAME:CET
DTSTART:20251026T010000
END:STANDARD
BEGIN:DAYLIGHT
TZOFFSETFROM:+0100
TZOFFSETTO:+0200
TZNAME:CEST
DTSTART:20260329T010000
END:DAYLIGHT
BEGIN:STANDARD
TZOFFSETFROM:+0200
TZOFFSETTO:+0100
TZNAME:CET
DTSTART:20261025T010000
END:STANDARD
BEGIN:DAYLIGHT
TZOFFSETFROM:+0100
TZOFFSETTO:+0200
TZNAME:CEST
DTSTART:20270328T010000
END:DAYLIGHT
BEGIN:STANDARD
TZOFFSETFROM:+0200
TZOFFSETTO:+0100
TZNAME:CET
DTSTART:20271031T010000
END:STANDARD
END:VTIMEZONE
BEGIN:VEVENT
DTSTART;TZID=Europe/Prague:20260215T150000
DTEND;TZID=Europe/Prague:20260215T170000
DTSTAMP:20260425T160220
CREATED:20251212T174150Z
LAST-MODIFIED:20260214T194736Z
UID:129-1771167600-1771174800@mamevzdelavani.cz
SUMMARY:Setkání v rámci projektu Máme vzdělávání
DESCRIPTION:Kdy: v neděli   15.2.2026 od 15:00 do 17:00 \nKde: D1 Hotel & Restaurant Veveří 260\, 664 81 Ostrovačice\, odkaz na mapu \nCena: 1 200 Kč \nPřihlašování na telefonním čísle 777 220 306 \n  \nPojďte s námi tvořit místo\, kde se potkáváme\, inspirujeme a vzájemně podporujeme. Místo\, kde si každý najde to své…to\, co s ním souzní. Dovolme si jen tak být … žít tady a teď. \nProjekt Máme vzdělávání není zdaleka jen o vědomostech\, dovednostech a vzdělání jako takovém\, je o něčem mnohem celistvějším – o životě samotném. \nNa setkání s vámi se těší Jiří Ledvinka a Pavlína Vávrová \n  \n 
URL:https://mamevzdelavani.cz/akce/setkani-v-ramci-projektu-mame-vzdelavani/
LOCATION:Veveří 260\, D1 HOTEL & RESTAURANT\, Ostrovačice\, 66481
ATTACH;FMTTYPE=image/jpeg:https://mamevzdelavani.cz/wp-content/uploads/2025/11/D1-1.jpeg
END:VEVENT
BEGIN:VEVENT
DTSTART;TZID=Europe/Prague:20260207T130000
DTEND;TZID=Europe/Prague:20260207T170000
DTSTAMP:20260425T160220
CREATED:20260108T165854Z
LAST-MODIFIED:20260203T173940Z
UID:151-1770469200-1770483600@mamevzdelavani.cz
SUMMARY:Workshop - tvorba tmelem pro dospělé 7.2.2026
DESCRIPTION:Workshopem vás provede: Jitka Zuthová \nKdy: v sobotu   7.2.2026 od 13:00 do 17:00 \nKde: Melkusova 26\, Znojmo 671 81 (u Plovárny Louka) \nCena: 2 500 Kč  \nCena zahrnuje: Plátno o rozměru 30×30 cm\, použitý materiál (na výběr bude z mnoha různých možností\, tak aby si každý pro svůj obraz mohl vybrat\, co má rád). \nK dispozici bude také káva\, čaj a malé občerstvení.  \nPřihlašování uzavřeno \nZveme vás na kreativní workshop\, kde se nejen ponoříte do klidné a tvořivé atmosféry\, ale zároveň získáte praktické know-how\, jak s technikou práce s tmelem pracovat i dál. \n  \nWorkshop je určen pro dospělé\, kteří chtějí tvořit vědomě\, rozvíjet svou kreativitu a zároveň pochopit základy techniky\, materiálů a možností\, jak tuto tvorbu využít i po skončení kurzu – doma\, pro radost\, nebo jako základ vlastní další cesty. \n  \nBěhem setkání: \n\nse seznámíte s prací s tmelem krok za krokem\nvytvoříte si vlastní obraz podle sebe\nzískáte tipy a zkušenosti\, jak s technikou pokračovat i samostatně\ndozvíte se\, jak materiál používat\, kombinovat a rozvíjet\n\n  \nKurz není jen o jednom odpoledni.\nJe o tom odnést si dovednost\, kterou můžete dál rozvíjet. \nTěší se na vás Jitka \nUkázka mojí práce: \n  \n 
URL:https://mamevzdelavani.cz/akce/workshop-tvorba-tmelem-pro-dospele-7-2-2026/
LOCATION:Znojmo\, Melkusova 26\, Znojmo\, 67181
ATTACH;FMTTYPE=image/jpeg:https://mamevzdelavani.cz/wp-content/uploads/2026/01/hearts-6963368_1280.jpg
END:VEVENT
BEGIN:VEVENT
DTSTART;TZID=Europe/Prague:20260118T190000
DTEND;TZID=Europe/Prague:20260118T200000
DTSTAMP:20260425T160220
CREATED:20251105T080211Z
LAST-MODIFIED:20260118T100813Z
UID:42-1768762800-1768766400@mamevzdelavani.cz
SUMMARY:Online setkání Máme vzdělávání 18.1.2026
DESCRIPTION:Kdy: v neděli   18.1.2026 od 19:00 do 20:00 \nKde: online přes aplikaci ZOOM \nCena: 490 Kč \nPřihlašování na tuto akci bude uzavřeno 18.1.2026 \n  \nZveme vás na online setkání v rámci projektu Máme vzdělávání. Prozradíme vám\, co nového připravujeme. A moc rádi se dozvíme\, co by zajímalo vás. Těšíme se na společně strávený čas a tvoření v novém.
URL:https://mamevzdelavani.cz/akce/online-setkani-mame-vzdelavani-10-12-2025/
LOCATION:Online platforma Zoom
ATTACH;FMTTYPE=image/jpeg:https://mamevzdelavani.cz/wp-content/uploads/2025/10/technology-6801334_1280.jpg
END:VEVENT
END:VCALENDAR